BEGIN:VCALENDAR
VERSION:2.0
PRODID:-//Wests Illawarra - ECPv5.14.1//NONSGML v1.0//EN
CALSCALE:GREGORIAN
METHOD:PUBLISH
X-WR-CALNAME:Wests Illawarra
X-ORIGINAL-URL:https://www.westsillawarra.com.au
X-WR-CALDESC:Events for Wests Illawarra
REFRESH-INTERVAL;VALUE=DURATION:PT1H
X-Robots-Tag:noindex
X-PUBLISHED-TTL:PT1H
BEGIN:VTIMEZONE
TZID:Australia/Sydney
BEGIN:STANDARD
TZOFFSETFROM:+1100
TZOFFSETTO:+1000
TZNAME:AEST
DTSTART:20260404T160000
END:STANDARD
BEGIN:DAYLIGHT
TZOFFSETFROM:+1000
TZOFFSETTO:+1100
TZNAME:AEDT
DTSTART:20261003T160000
END:DAYLIGHT
END:VTIMEZONE
BEGIN:VEVENT
DTSTART;TZID=Australia/Sydney:20260428T101500
DTEND;TZID=Australia/Sydney:20260428T133000
DTSTAMP:20260425T004627
CREATED:20260305T004922Z
LAST-MODIFIED:20260305T004922Z
UID:29397-1777371300-1777383000@www.westsillawarra.com.au
SUMMARY:Bingo
DESCRIPTION:WEEKLY BINGO\n\n\n\n\n41\, time for fun! Join us for a game of bingo every Tuesday & Thursday morning. Bring your friends\, enjoy some friendly competition\, and make your mornings exciting! \nBooks on sale: from 10:15am\nSession start: 11:00am\nSession concludes: 1:00pm – 1:30pm (approximate) \nPrice to Play: Members $3 | Visitors $6 \nOpen to all ages.\nT&Cs apply. Please note: the stated finishing time is approximate and may vary.
URL:https://www.westsillawarra.com.au/event/bingo-2/2026-04-28/
LOCATION:Wests Illawarra\, Hargreaves Street\, Unanderra\, NSW\, 2526\, Australia
ATTACH;FMTTYPE=image/png:https://wisdom-site-westsillawarra-com-au.s3.amazonaws.com/uploads/2026/03/Bingo-Social-Square.png
END:VEVENT
BEGIN:VEVENT
DTSTART;TZID=Australia/Sydney:20260430T101500
DTEND;TZID=Australia/Sydney:20260430T133000
DTSTAMP:20260425T004627
CREATED:20260305T004922Z
LAST-MODIFIED:20260305T004922Z
UID:29398-1777544100-1777555800@www.westsillawarra.com.au
SUMMARY:Bingo
DESCRIPTION:WEEKLY BINGO\n\n\n\n\n41\, time for fun! Join us for a game of bingo every Tuesday & Thursday morning. Bring your friends\, enjoy some friendly competition\, and make your mornings exciting! \nBooks on sale: from 10:15am\nSession start: 11:00am\nSession concludes: 1:00pm – 1:30pm (approximate) \nPrice to Play: Members $3 | Visitors $6 \nOpen to all ages.\nT&Cs apply. Please note: the stated finishing time is approximate and may vary.
URL:https://www.westsillawarra.com.au/event/bingo-2/2026-04-30/
LOCATION:Wests Illawarra\, Hargreaves Street\, Unanderra\, NSW\, 2526\, Australia
ATTACH;FMTTYPE=image/png:https://wisdom-site-westsillawarra-com-au.s3.amazonaws.com/uploads/2026/03/Bingo-Social-Square.png
END:VEVENT
END:VCALENDAR