BEGIN:VCALENDAR
VERSION:2.0
PRODID:-//Wests Illawarra - ECPv5.14.1//NONSGML v1.0//EN
CALSCALE:GREGORIAN
METHOD:PUBLISH
X-WR-CALNAME:Wests Illawarra
X-ORIGINAL-URL:https://www.westsillawarra.com.au
X-WR-CALDESC:Events for Wests Illawarra
REFRESH-INTERVAL;VALUE=DURATION:PT1H
X-Robots-Tag:noindex
X-PUBLISHED-TTL:PT1H
BEGIN:VTIMEZONE
TZID:Australia/Sydney
BEGIN:STANDARD
TZOFFSETFROM:+1100
TZOFFSETTO:+1000
TZNAME:AEST
DTSTART:20260404T160000
END:STANDARD
BEGIN:DAYLIGHT
TZOFFSETFROM:+1000
TZOFFSETTO:+1100
TZNAME:AEDT
DTSTART:20261003T160000
END:DAYLIGHT
END:VTIMEZONE
BEGIN:VEVENT
DTSTART;TZID=Australia/Sydney:20260429T180000
DTEND;TZID=Australia/Sydney:20260429T210000
DTSTAMP:20260425T004757
CREATED:20260305T235151Z
LAST-MODIFIED:20260312T022418Z
UID:28917-1777485600-1777496400@www.westsillawarra.com.au
SUMMARY:Cash Bingo
DESCRIPTION:Join us Wednesday nights for an evening of FUN and GAMES and get ready to shout “BINGO!” as we play for exciting prizes all night long! PLUS\, enjoy a bonus JACKPOT game with a growing prize pool that increases every week until it’s won! \nBooks on sale from 6pm \nApril mega’s – every set purchased in April to go in the draw to win 1 of 2 $100 gift cards drawn Wednesday 29th April. \n 
URL:https://www.westsillawarra.com.au/event/cash-bingo/2026-04-29/
LOCATION:Wests Illawarra\, Hargreaves Street\, Unanderra\, NSW\, 2526\, Australia
ATTACH;FMTTYPE=image/png:https://wisdom-site-westsillawarra-com-au.s3.amazonaws.com/uploads/2026/03/Monthly-Special-General-Square-1.png
END:VEVENT
END:VCALENDAR